BEGIN:VCALENDAR
VERSION:2.0
PRODID:-//Association Hibiscus de Gagny 93 - ECPv6.0.10//NONSGML v1.0//EN
CALSCALE:GREGORIAN
METHOD:PUBLISH
X-ORIGINAL-URL:https://association-hibiscus.fr
X-WR-CALDESC:évènements pour Association Hibiscus de Gagny 93
REFRESH-INTERVAL;VALUE=DURATION:PT1H
X-Robots-Tag:noindex
X-PUBLISHED-TTL:PT1H
BEGIN:VTIMEZONE
TZID:Europe/Paris
BEGIN:DAYLIGHT
TZOFFSETFROM:+0100
TZOFFSETTO:+0200
TZNAME:CEST
DTSTART:20260329T010000
END:DAYLIGHT
BEGIN:STANDARD
TZOFFSETFROM:+0200
TZOFFSETTO:+0100
TZNAME:CET
DTSTART:20261025T010000
END:STANDARD
END:VTIMEZONE
BEGIN:VEVENT
DTSTART;TZID=Europe/Paris:20260501T110000
DTEND;TZID=Europe/Paris:20260501T180000
DTSTAMP:20260421T164137
CREATED:20260326T150300Z
LAST-MODIFIED:20260419T223613Z
UID:27931-1777633200-1777658400@association-hibiscus.fr
SUMMARY:Fête des berges 2026 à Argenteuil
DESCRIPTION:
URL:https://association-hibiscus.fr/evenement/1er-mai-argenteuil-fete-cirque-hibiscus/
LOCATION:Parc des berges\, Boulevard Heloise\, Argenteuil\, 95100\, France
ATTACH;FMTTYPE=image/jpeg:https://association-hibiscus.fr/wp-content/uploads/2026/03/Fete-de-berges-Argenteuil.jpg
END:VEVENT
BEGIN:VEVENT
DTSTART;TZID=Europe/Paris:20260523T100000
DTEND;TZID=Europe/Paris:20260523T120000
DTSTAMP:20260421T164137
CREATED:20260326T175237Z
LAST-MODIFIED:20260419T223532Z
UID:27937-1779530400-1779537600@association-hibiscus.fr
SUMMARY:Commémoration aux victimes de l'esclavage
DESCRIPTION:
URL:https://association-hibiscus.fr/evenement/commemoration-victimes-esclavage-gagny-23-mai-hibiscus/
LOCATION:Mairie de Gagny\, 1 Esplanade Michel TEULET\, GAGNY\, 93220\, France
ATTACH;FMTTYPE=image/jpeg:https://association-hibiscus.fr/wp-content/uploads/2026/03/l-abolition-de-l-esclavage-dans-les-colonies-fran-aises-en-1848-18164.jpg
END:VEVENT
BEGIN:VEVENT
DTSTART;TZID=Europe/Paris:20260523T140000
DTEND;TZID=Europe/Paris:20260524T000000
DTSTAMP:20260421T164137
CREATED:20260326T182532Z
LAST-MODIFIED:20260419T223357Z
UID:27944-1779544800-1779580800@association-hibiscus.fr
SUMMARY:1 Km de danse à Pantin
DESCRIPTION:
URL:https://association-hibiscus.fr/evenement/1km-danse-pantin-2026-hibiscus-23-mai/
LOCATION:1 Km de Danse Pantin\, 1 rue Victor Hugo\, Pantin\, 93500\, France
ATTACH;FMTTYPE=image/webp:https://association-hibiscus.fr/wp-content/uploads/2026/03/km-danse.webp
END:VEVENT
BEGIN:VEVENT
DTSTART;TZID=Europe/Paris:20260530T113000
DTEND;TZID=Europe/Paris:20260530T160000
DTSTAMP:20260421T164137
CREATED:20260419T202527Z
LAST-MODIFIED:20260419T223325Z
UID:27954-1780140600-1780156800@association-hibiscus.fr
SUMMARY:Animation de la Journée Créole au Auchan de Meaux
DESCRIPTION:
URL:https://association-hibiscus.fr/evenement/journee-creole-auchan-meaux-30-mai/
LOCATION:Auchan Meaux\, 3 avenue Roland Moreno\, Chauconin-Neufmontiers\, Seine et Marne\, 77124\, France
ATTACH;FMTTYPE=image/jpeg:https://association-hibiscus.fr/wp-content/uploads/2026/04/photo_2026-04-19-21.59.04.jpeg
END:VEVENT
END:VCALENDAR