BEGIN:VCALENDAR
VERSION:2.0
PRODID:-//Association Hibiscus de Gagny 93 - ECPv6.0.10//NONSGML v1.0//EN
CALSCALE:GREGORIAN
METHOD:PUBLISH
X-ORIGINAL-URL:https://association-hibiscus.fr
X-WR-CALDESC:évènements pour Association Hibiscus de Gagny 93
REFRESH-INTERVAL;VALUE=DURATION:PT1H
X-Robots-Tag:noindex
X-PUBLISHED-TTL:PT1H
BEGIN:VTIMEZONE
TZID:Europe/Paris
BEGIN:DAYLIGHT
TZOFFSETFROM:+0100
TZOFFSETTO:+0200
TZNAME:CEST
DTSTART:20250330T010000
END:DAYLIGHT
BEGIN:STANDARD
TZOFFSETFROM:+0200
TZOFFSETTO:+0100
TZNAME:CET
DTSTART:20251026T010000
END:STANDARD
END:VTIMEZONE
BEGIN:VEVENT
DTSTART;TZID=Europe/Paris:20250919T190000
DTEND;TZID=Europe/Paris:20250919T230000
DTSTAMP:20260422T005523
CREATED:20250907T204005Z
LAST-MODIFIED:20250914T121555Z
UID:27825-1758308400-1758322800@association-hibiscus.fr
SUMMARY:L' ART ET SA VISIBILITÉ ( Vernissage)
DESCRIPTION:
URL:https://association-hibiscus.fr/evenement/l-art-et-sa-visibilite-vernissage/
LOCATION:Espace Michel Simon\, 36 rue de la République\, Noisy-le-Grand\, Seine-saint-denis\, 93160\, France
ATTACH;FMTTYPE=image/jpeg:https://association-hibiscus.fr/wp-content/uploads/2025/09/WhatsApp-Image-2025-09-07-at-10.26.41.jpeg
END:VEVENT
END:VCALENDAR