BEGIN:VCALENDAR
VERSION:2.0
PRODID:-//Association Hibiscus de Gagny 93 - ECPv6.0.10//NONSGML v1.0//EN
CALSCALE:GREGORIAN
METHOD:PUBLISH
X-WR-CALNAME:Association Hibiscus de Gagny 93
X-ORIGINAL-URL:https://association-hibiscus.fr
X-WR-CALDESC:évènements pour Association Hibiscus de Gagny 93
REFRESH-INTERVAL;VALUE=DURATION:PT1H
X-Robots-Tag:noindex
X-PUBLISHED-TTL:PT1H
BEGIN:VTIMEZONE
TZID:Europe/Paris
BEGIN:DAYLIGHT
TZOFFSETFROM:+0100
TZOFFSETTO:+0200
TZNAME:CEST
DTSTART:20250330T010000
END:DAYLIGHT
BEGIN:STANDARD
TZOFFSETFROM:+0200
TZOFFSETTO:+0100
TZNAME:CET
DTSTART:20251026T010000
END:STANDARD
END:VTIMEZONE
BEGIN:VEVENT
DTSTART;TZID=Europe/Paris:20250503T103000
DTEND;TZID=Europe/Paris:20250504T000000
DTSTAMP:20260422T064716
CREATED:20250410T155650Z
LAST-MODIFIED:20250422T144840Z
UID:27776-1746268200-1746316800@association-hibiscus.fr
SUMMARY:Journée Culturelle "Régions et Traditions"
DESCRIPTION:Accès direct à la billeterie ci-dessous : \nhttps://widget.weezevent.com/ticket/E1311655/?code=22369&locale=fr-FR&width_auto=1&color_primary=00AEEF » width= »650″ height= »600″ > \nhttps://my.weezevent.com/journee-culturelle-regions-et-traditions
URL:https://association-hibiscus.fr/evenement/journee-culturelle-regions-et-traditions/
LOCATION:Espace Jules VERNES\, Allée du parc de la Mairie\, Livry Gargan\, 93190\, France
ATTACH;FMTTYPE=image/jpeg:https://association-hibiscus.fr/wp-content/uploads/2025/04/WhatsApp-Image-2025-04-10-at-15.34.51.jpeg
END:VEVENT
BEGIN:VEVENT
DTSTART;VALUE=DATE:20250517
DTEND;VALUE=DATE:20250518
DTSTAMP:20260422T064716
CREATED:20250411T080753Z
LAST-MODIFIED:20250417T150322Z
UID:27783-1747440000-1747526399@association-hibiscus.fr
SUMMARY:Carnaval de Livry-Gargan 2025
DESCRIPTION:
URL:https://association-hibiscus.fr/evenement/carnaval-de-livry-gargan-2025/
LOCATION:Parc Lefevre Livry-Gargan\, 60 Avenue du Consul Général Nordling\, Livry-Gargan\, 93190\, France
ATTACH;FMTTYPE=image/jpeg:https://association-hibiscus.fr/wp-content/uploads/2025/04/Flyer-carnaval-Livry-Gargan-2025.jpeg
END:VEVENT
BEGIN:VEVENT
DTSTART;TZID=Europe/Paris:20250523T180000
DTEND;TZID=Europe/Paris:20250523T200000
DTSTAMP:20260422T064716
CREATED:20250417T224741Z
LAST-MODIFIED:20260125T224959Z
UID:27799-1748023200-1748030400@association-hibiscus.fr
SUMMARY:Commémoration de L'abolition de l'esclavage
DESCRIPTION:
URL:https://association-hibiscus.fr/evenement/commemoration-de-labolition-de-lesclavage/
LOCATION:Mairie de Gagny\, 1 Esplanade Michel TEULET\, GAGNY\, 93220\, France
ATTACH;FMTTYPE=image/jpeg:https://association-hibiscus.fr/wp-content/uploads/2025/04/IMG_20260126_004716.jpg
END:VEVENT
END:VCALENDAR