BEGIN:VCALENDAR
VERSION:2.0
PRODID:-//Association Hibiscus de Gagny 93 - ECPv6.0.10//NONSGML v1.0//EN
CALSCALE:GREGORIAN
METHOD:PUBLISH
X-ORIGINAL-URL:https://association-hibiscus.fr
X-WR-CALDESC:évènements pour Association Hibiscus de Gagny 93
REFRESH-INTERVAL;VALUE=DURATION:PT1H
X-Robots-Tag:noindex
X-PUBLISHED-TTL:PT1H
BEGIN:VTIMEZONE
TZID:Europe/Paris
BEGIN:DAYLIGHT
TZOFFSETFROM:+0100
TZOFFSETTO:+0200
TZNAME:CEST
DTSTART:20250330T010000
END:DAYLIGHT
BEGIN:STANDARD
TZOFFSETFROM:+0200
TZOFFSETTO:+0100
TZNAME:CET
DTSTART:20251026T010000
END:STANDARD
END:VTIMEZONE
BEGIN:VEVENT
DTSTART;TZID=Europe/Paris:20250410T190000
DTEND;TZID=Europe/Paris:20250410T210000
DTSTAMP:20260422T081327
CREATED:20250410T153808Z
LAST-MODIFIED:20250410T164926Z
UID:27772-1744311600-1744318800@association-hibiscus.fr
SUMMARY:Interview de l'association Hibiscus en direct sur la radio Fanfan Mizik
DESCRIPTION:https://www.radiofanfanmizik.com/ \nhttps://www.youtube.com/@radiofanfanmizik \nhttps://www.instagram.com/radiotv_fanfanmizik/?hl=fr \n\n @radiofanfanmizik
URL:https://association-hibiscus.fr/evenement/interview-de-lassociation-hibiscus-en-direct-sur-la-radio-fanfan-mizik/
LOCATION:Radio Fanfan Mizik\, 37 avenue de la Marne\, Epinay sur seine\, Seine st Denis\, 93800\, France
ATTACH;FMTTYPE=image/jpeg:https://association-hibiscus.fr/wp-content/uploads/2025/04/WhatsApp-Image-2025-04-08-at-14.48.18.jpeg
END:VEVENT
BEGIN:VEVENT
DTSTART;TZID=Europe/Paris:20250415T200000
DTEND;TZID=Europe/Paris:20250415T220000
DTSTAMP:20260422T081327
CREATED:20250411T085604Z
LAST-MODIFIED:20250411T222343Z
UID:27787-1744747200-1744754400@association-hibiscus.fr
SUMMARY:Interview de l'association Hibiscus en direct sur P2M Radio
DESCRIPTION:ACCUEIL \n \nhttps://www.facebook.com/p2mmedia/?locale=fr_FR \n 
URL:https://association-hibiscus.fr/evenement/interview-de-lassociation-hibiscus-en-direct-sur-p2m-radio/
LOCATION:P2M Radio\, 12 place du Caquet\, Saint Denis\, 93200\, France
ATTACH;FMTTYPE=image/jpeg:https://association-hibiscus.fr/wp-content/uploads/2025/04/Flyer-P2M-Radio-2025-04-11-at-16.53.22.jpeg
END:VEVENT
END:VCALENDAR