BEGIN:VCALENDAR
VERSION:2.0
PRODID:-//Association Hibiscus de Gagny 93 - ECPv6.0.10//NONSGML v1.0//EN
CALSCALE:GREGORIAN
METHOD:PUBLISH
X-ORIGINAL-URL:https://association-hibiscus.fr
X-WR-CALDESC:évènements pour Association Hibiscus de Gagny 93
REFRESH-INTERVAL;VALUE=DURATION:PT1H
X-Robots-Tag:noindex
X-PUBLISHED-TTL:PT1H
BEGIN:VTIMEZONE
TZID:Europe/Paris
BEGIN:DAYLIGHT
TZOFFSETFROM:+0100
TZOFFSETTO:+0200
TZNAME:CEST
DTSTART:20250330T010000
END:DAYLIGHT
BEGIN:STANDARD
TZOFFSETFROM:+0200
TZOFFSETTO:+0100
TZNAME:CET
DTSTART:20251026T010000
END:STANDARD
END:VTIMEZONE
BEGIN:VEVENT
DTSTART;VALUE=DATE:20250208
DTEND;VALUE=DATE:20250209
DTSTAMP:20260422T103929
CREATED:20241201T200011Z
LAST-MODIFIED:20241201T200011Z
UID:26371-1738972800-1739059199@association-hibiscus.fr
SUMMARY:Animation de la journée Créole au Auchan de Meaux
DESCRIPTION:https://www.facebook.com/100069893821605/videos/398520059292566
URL:https://association-hibiscus.fr/evenement/animation-de-la-journee-creole-au-auchan-de-meaux-3/
LOCATION:Auchan Meaux\, 3 avenue Roland Moreno\, Chauconin-Neufmontiers\, Seine et Marne\, 77124\, France
ATTACH;FMTTYPE=image/jpeg:https://association-hibiscus.fr/wp-content/uploads/2024/12/Journee-Creole-Meaux.jpg
END:VEVENT
END:VCALENDAR