BEGIN:VCALENDAR
VERSION:2.0
PRODID:-//Association Hibiscus de Gagny 93 - ECPv6.0.10//NONSGML v1.0//EN
CALSCALE:GREGORIAN
METHOD:PUBLISH
X-WR-CALNAME:Association Hibiscus de Gagny 93
X-ORIGINAL-URL:https://association-hibiscus.fr
X-WR-CALDESC:évènements pour Association Hibiscus de Gagny 93
REFRESH-INTERVAL;VALUE=DURATION:PT1H
X-Robots-Tag:noindex
X-PUBLISHED-TTL:PT1H
BEGIN:VTIMEZONE
TZID:Europe/Paris
BEGIN:DAYLIGHT
TZOFFSETFROM:+0100
TZOFFSETTO:+0200
TZNAME:CEST
DTSTART:20240331T010000
END:DAYLIGHT
BEGIN:STANDARD
TZOFFSETFROM:+0200
TZOFFSETTO:+0100
TZNAME:CET
DTSTART:20241027T010000
END:STANDARD
END:VTIMEZONE
BEGIN:VEVENT
DTSTART;TZID=Europe/Paris:20240921T140000
DTEND;TZID=Europe/Paris:20240921T160000
DTSTAMP:20260422T171041
CREATED:20240913T225614Z
LAST-MODIFIED:20240913T225741Z
UID:26310-1726927200-1726934400@association-hibiscus.fr
SUMMARY:Animation folklorique et culturelle au foyer d'accueil médicalisé de Tremblay en France
DESCRIPTION:
URL:https://association-hibiscus.fr/evenement/animation-folklorique-et-culturelle-au-foyer-daccueil-medicalise-de-tremblay-en-france/
LOCATION:Tremblay en France\, Tremblay en France\, 93290
ATTACH;FMTTYPE=image/jpeg:https://association-hibiscus.fr/wp-content/uploads/2024/09/img-20180725-wa0032.jpg
END:VEVENT
END:VCALENDAR