BEGIN:VCALENDAR
VERSION:2.0
PRODID:-//Association Hibiscus de Gagny 93 - ECPv6.0.10//NONSGML v1.0//EN
CALSCALE:GREGORIAN
METHOD:PUBLISH
X-WR-CALNAME:Association Hibiscus de Gagny 93
X-ORIGINAL-URL:https://association-hibiscus.fr
X-WR-CALDESC:évènements pour Association Hibiscus de Gagny 93
REFRESH-INTERVAL;VALUE=DURATION:PT1H
X-Robots-Tag:noindex
X-PUBLISHED-TTL:PT1H
BEGIN:VTIMEZONE
TZID:Europe/Paris
BEGIN:DAYLIGHT
TZOFFSETFROM:+0100
TZOFFSETTO:+0200
TZNAME:CEST
DTSTART:20240331T010000
END:DAYLIGHT
BEGIN:STANDARD
TZOFFSETFROM:+0200
TZOFFSETTO:+0100
TZNAME:CET
DTSTART:20241027T010000
END:STANDARD
END:VTIMEZONE
BEGIN:VEVENT
DTSTART;TZID=Europe/Paris:20240504T203000
DTEND;TZID=Europe/Paris:20240504T220000
DTSTAMP:20260422T222630
CREATED:20240504T152217Z
LAST-MODIFIED:20240504T152826Z
UID:26289-1714854600-1714860000@association-hibiscus.fr
SUMMARY:HBC Livry-Gargan vs Pouzauges Handball
DESCRIPTION:
URL:https://association-hibiscus.fr/evenement/hbc-livry-gargan-vs-pouzauges-handball/
LOCATION:Stade AMV\, 43 avenue du Maréchal Leclerc\, Livry-Gargan
ATTACH;FMTTYPE=image/jpeg:https://association-hibiscus.fr/wp-content/uploads/2024/05/IMG_2340.jpeg
END:VEVENT
BEGIN:VEVENT
DTSTART;TZID=Europe/Paris:20240523T180000
DTEND;TZID=Europe/Paris:20240523T200000
DTSTAMP:20260422T222630
CREATED:20240421T220204Z
LAST-MODIFIED:20240516T131950Z
UID:26240-1716487200-1716494400@association-hibiscus.fr
SUMMARY:Hommage aux victimes de l'esclavage
DESCRIPTION:https://www.instagram.com/p/Cs1l-Sggjsh/ \nhttps://www.facebook.com/reel/161329476715800 \nhttps://www.instagram.com/reel/C69EqeLN9B7/?igsh=aHk5N3NpdnQ2OWJm
URL:https://association-hibiscus.fr/evenement/hommage-aux-victimes-de-lesclavage/
LOCATION:Mairie de Gagny\, 1 Esplanade Michel TEULET\, GAGNY\, 93220\, France
ATTACH;FMTTYPE=image/jpeg:https://association-hibiscus.fr/wp-content/uploads/2024/04/021dc69a-5752-4baf-8552-10185ed01c94.jpeg
END:VEVENT
BEGIN:VEVENT
DTSTART;TZID=Europe/Paris:20240525T140000
DTEND;TZID=Europe/Paris:20240525T170000
DTSTAMP:20260422T222630
CREATED:20240421T231018Z
LAST-MODIFIED:20240428T215734Z
UID:26248-1716645600-1716656400@association-hibiscus.fr
SUMMARY:Carnaval de Livry-Gargan 2024
DESCRIPTION: 
URL:https://association-hibiscus.fr/evenement/carnaval-de-livry-gargan-2024/
LOCATION:Parc Lefevre Livry-Gargan\, 60 Avenue du Consul Général Nordling\, Livry-Gargan\, 93190\, France
ATTACH;FMTTYPE=image/jpeg:https://association-hibiscus.fr/wp-content/uploads/2024/04/IMG_2311.jpg
END:VEVENT
END:VCALENDAR