BEGIN:VCALENDAR
VERSION:2.0
PRODID:-//Association Hibiscus de Gagny 93 - ECPv6.0.10//NONSGML v1.0//EN
CALSCALE:GREGORIAN
METHOD:PUBLISH
X-ORIGINAL-URL:https://association-hibiscus.fr
X-WR-CALDESC:évènements pour Association Hibiscus de Gagny 93
REFRESH-INTERVAL;VALUE=DURATION:PT1H
X-Robots-Tag:noindex
X-PUBLISHED-TTL:PT1H
BEGIN:VTIMEZONE
TZID:Europe/Paris
BEGIN:DAYLIGHT
TZOFFSETFROM:+0100
TZOFFSETTO:+0200
TZNAME:CEST
DTSTART:20230326T010000
END:DAYLIGHT
BEGIN:STANDARD
TZOFFSETFROM:+0200
TZOFFSETTO:+0100
TZNAME:CET
DTSTART:20231029T010000
END:STANDARD
END:VTIMEZONE
BEGIN:VEVENT
DTSTART;TZID=Europe/Paris:20231202T180000
DTEND;TZID=Europe/Paris:20231203T000000
DTSTAMP:20260423T052808
CREATED:20231109T213306Z
LAST-MODIFIED:20231125T141133Z
UID:26185-1701540000-1701561600@association-hibiscus.fr
SUMMARY:Chanté Nwel 2023
DESCRIPTION:https://my.weezevent.com/chante-nwel-2023-association-hibiscus-gagny \n \nhttps://www.iledefrance.fr/toutes-les-actualites/la-region-recompense-les-meilleurs-chante-nwel-dile-de-france
URL:https://association-hibiscus.fr/evenement/chante-nwel-2023/
LOCATION:Salle des Fêtes de Gagny – Hotel de Ville\, Esplanade Michel TEULET\, Gagny\, 93220\, France
ATTACH;FMTTYPE=image/jpeg:https://association-hibiscus.fr/wp-content/uploads/2023/10/Flyer-Chante-Nwel-complet.jpeg
END:VEVENT
END:VCALENDAR