BEGIN:VCALENDAR
VERSION:2.0
PRODID:-//Association Hibiscus de Gagny 93 - ECPv6.0.10//NONSGML v1.0//EN
CALSCALE:GREGORIAN
METHOD:PUBLISH
X-ORIGINAL-URL:https://association-hibiscus.fr
X-WR-CALDESC:évènements pour Association Hibiscus de Gagny 93
REFRESH-INTERVAL;VALUE=DURATION:PT1H
X-Robots-Tag:noindex
X-PUBLISHED-TTL:PT1H
BEGIN:VTIMEZONE
TZID:Europe/Paris
BEGIN:DAYLIGHT
TZOFFSETFROM:+0100
TZOFFSETTO:+0200
TZNAME:CEST
DTSTART:20230326T010000
END:DAYLIGHT
BEGIN:STANDARD
TZOFFSETFROM:+0200
TZOFFSETTO:+0100
TZNAME:CET
DTSTART:20231029T010000
END:STANDARD
END:VTIMEZONE
BEGIN:VEVENT
DTSTART;TZID=Europe/Paris:20230513T140000
DTEND;TZID=Europe/Paris:20230513T180000
DTSTAMP:20260423T153951
CREATED:20230428T221159Z
LAST-MODIFIED:20230428T222952Z
UID:26143-1683986400-1684000800@association-hibiscus.fr
SUMMARY:Carnaval de Livry-Gargan
DESCRIPTION:
URL:https://association-hibiscus.fr/evenement/26143/
LOCATION:Parc Lefevre Livry-Gargan\, 60 Avenue du Consul Général Nordling\, Livry-Gargan\, 93190\, France
ATTACH;FMTTYPE=image/jpeg:https://association-hibiscus.fr/wp-content/uploads/2023/04/Capture-decran-.-2023-04-29-a-00.06.36.jpg
END:VEVENT
BEGIN:VEVENT
DTSTART;TZID=Europe/Paris:20230513T200000
DTEND;TZID=Europe/Paris:20230513T213000
DTSTAMP:20260423T153951
CREATED:20230428T231128Z
LAST-MODIFIED:20230428T231235Z
UID:26154-1684008000-1684013400@association-hibiscus.fr
SUMMARY:Match Nationale 1 : HBC Livry vs Tremblay-en-France Handball
DESCRIPTION:
URL:https://association-hibiscus.fr/evenement/match-nationale-1-hbc-livry-vs-tremblay-en-france-handball/
LOCATION:Parc des Sports Alfred Marcel Vincent\, 43-47 avenue du Maréchal Leclerc\, Livry-Gargan\, 93190\, France
ATTACH;FMTTYPE=image/jpeg:https://association-hibiscus.fr/wp-content/uploads/2023/04/WhatsApp-Image-2023-04-16-at-23.59.51.jpeg
END:VEVENT
BEGIN:VEVENT
DTSTART;TZID=Europe/Paris:20230528T090000
DTEND;TZID=Europe/Paris:20230528T210000
DTSTAMP:20260423T153951
CREATED:20230428T224918Z
LAST-MODIFIED:20230428T225108Z
UID:26151-1685264400-1685307600@association-hibiscus.fr
SUMMARY:La fête du crabe
DESCRIPTION:
URL:https://association-hibiscus.fr/evenement/la-fete-du-crabe/
LOCATION:STADE DES BORDS DE MARNE\, 43 RUE LÉON BERNARD\, Noisy-Le-Grand\, 93160
ATTACH;FMTTYPE=image/jpeg:https://association-hibiscus.fr/wp-content/uploads/2023/04/WhatsApp-Image-2023-04-17-at-11.25.02.jpeg
END:VEVENT
END:VCALENDAR