BEGIN:VCALENDAR
VERSION:2.0
PRODID:-//Association Hibiscus de Gagny 93 - ECPv6.0.10//NONSGML v1.0//EN
CALSCALE:GREGORIAN
METHOD:PUBLISH
X-ORIGINAL-URL:https://association-hibiscus.fr
X-WR-CALDESC:évènements pour Association Hibiscus de Gagny 93
REFRESH-INTERVAL;VALUE=DURATION:PT1H
X-Robots-Tag:noindex
X-PUBLISHED-TTL:PT1H
BEGIN:VTIMEZONE
TZID:Europe/Paris
BEGIN:DAYLIGHT
TZOFFSETFROM:+0100
TZOFFSETTO:+0200
TZNAME:CEST
DTSTART:20230326T010000
END:DAYLIGHT
BEGIN:STANDARD
TZOFFSETFROM:+0200
TZOFFSETTO:+0100
TZNAME:CET
DTSTART:20231029T010000
END:STANDARD
END:VTIMEZONE
BEGIN:VEVENT
DTSTART;TZID=Europe/Paris:20230204T150000
DTEND;TZID=Europe/Paris:20230204T173000
DTSTAMP:20260423T193318
CREATED:20230128T230501Z
LAST-MODIFIED:20230203T231923Z
UID:26020-1675522800-1675531800@association-hibiscus.fr
SUMMARY:Animation de la Journée Créole au Auchan de Meaux
DESCRIPTION:
URL:https://association-hibiscus.fr/evenement/animation-de-la-journee-creole-au-auchan-de-meaux/
LOCATION:Auchan Meaux\, 3 avenue Roland Moreno\, Chauconin-Neufmontiers\, Seine et Marne\, 77124\, France
ATTACH;FMTTYPE=image/jpeg:https://association-hibiscus.fr/wp-content/uploads/2023/01/Auchan-Meaux-2023.jpeg
END:VEVENT
BEGIN:VEVENT
DTSTART;TZID=Europe/Paris:20230204T200000
DTEND;TZID=Europe/Paris:20230204T213000
DTSTAMP:20260423T193318
CREATED:20230128T232433Z
LAST-MODIFIED:20230203T231729Z
UID:26027-1675540800-1675546200@association-hibiscus.fr
SUMMARY:Match Nationale 1 : HBC Livry - TORCY
DESCRIPTION:
URL:https://association-hibiscus.fr/evenement/match-nationale-1-hbc-livry-torcy/
LOCATION:Parc des Sports Alfred Marcel Vincent\, 43-47 avenue du Maréchal Leclerc\, Livry-Gargan\, 93190\, France
ATTACH;FMTTYPE=image/jpeg:https://association-hibiscus.fr/wp-content/uploads/2023/01/HBCLG-vs-Torcy.jpeg
END:VEVENT
BEGIN:VEVENT
DTSTART;TZID=Europe/Paris:20230215T183000
DTEND;TZID=Europe/Paris:20230215T203000
DTSTAMP:20260423T193318
CREATED:20230203T235218Z
LAST-MODIFIED:20230204T000145Z
UID:26118-1676485800-1676493000@association-hibiscus.fr
SUMMARY:Chanté Nwel : La remise des prix
DESCRIPTION: 
URL:https://association-hibiscus.fr/evenement/chante-nwel-la-remise-des-prix/
LOCATION:Saint-Ouen-Sur-Seine\, 8 boulevard Victor Hugo\, Saint-Ouen-Sur-Seine\, Seine St Denis\, 93400\, France
ATTACH;FMTTYPE=image/jpeg:https://association-hibiscus.fr/wp-content/uploads/2023/01/Resultat-Chante-Nwel.jpeg
END:VEVENT
BEGIN:VEVENT
DTSTART;TZID=Europe/Paris:20230218T200000
DTEND;TZID=Europe/Paris:20230218T213000
DTSTAMP:20260423T193318
CREATED:20230129T000745Z
LAST-MODIFIED:20230129T003818Z
UID:26030-1676750400-1676755800@association-hibiscus.fr
SUMMARY:Match Nationale 1 : HBC Livry – Folschviller
DESCRIPTION:
URL:https://association-hibiscus.fr/evenement/match-nationale-1-hbc-livry-folschviller/
LOCATION:Parc des Sports Alfred Marcel Vincent\, 43-47 avenue du Maréchal Leclerc\, Livry-Gargan\, 93190\, France
ATTACH;FMTTYPE=image/jpeg:https://association-hibiscus.fr/wp-content/uploads/2022/10/WhatsApp-Image-2022-10-15-at-22.27.22.jpeg
END:VEVENT
END:VCALENDAR