BEGIN:VCALENDAR
VERSION:2.0
PRODID:-//Association Hibiscus de Gagny 93 - ECPv6.0.10//NONSGML v1.0//EN
CALSCALE:GREGORIAN
METHOD:PUBLISH
X-ORIGINAL-URL:https://association-hibiscus.fr
X-WR-CALDESC:évènements pour Association Hibiscus de Gagny 93
REFRESH-INTERVAL;VALUE=DURATION:PT1H
X-Robots-Tag:noindex
X-PUBLISHED-TTL:PT1H
BEGIN:VTIMEZONE
TZID:Europe/Paris
BEGIN:DAYLIGHT
TZOFFSETFROM:+0100
TZOFFSETTO:+0200
TZNAME:CEST
DTSTART:20220327T010000
END:DAYLIGHT
BEGIN:STANDARD
TZOFFSETFROM:+0200
TZOFFSETTO:+0100
TZNAME:CET
DTSTART:20221030T010000
END:STANDARD
END:VTIMEZONE
BEGIN:VEVENT
DTSTART;TZID=Europe/Paris:20221001T200000
DTEND;TZID=Europe/Paris:20221001T213000
DTSTAMP:20260424T012102
CREATED:20220929T225239Z
LAST-MODIFIED:20220929T225239Z
UID:25917-1664654400-1664659800@association-hibiscus.fr
SUMMARY:Match Nationale 1 : HBC Livry - Sélestat 5ème journée
DESCRIPTION:
URL:https://association-hibiscus.fr/evenement/match-nationale-1-hbc-livry-selestat-5eme-journee/
LOCATION:Parc des Sports Alfred Marcel Vincent\, 43-47 avenue du Maréchal Leclerc\, Livry-Gargan\, 93190\, France
ATTACH;FMTTYPE=image/jpeg:https://association-hibiscus.fr/wp-content/uploads/2022/09/HBCLG-01102022.jpeg
END:VEVENT
BEGIN:VEVENT
DTSTART;VALUE=DATE:20221008
DTEND;VALUE=DATE:20221010
DTSTAMP:20260424T012102
CREATED:20220706T222449Z
LAST-MODIFIED:20230130T233906Z
UID:25844-1665187200-1665359999@association-hibiscus.fr
SUMMARY:La fête des vendanges de Gagny
DESCRIPTION:
URL:https://association-hibiscus.fr/evenement/la-fete-des-vendanges-de-gagny/
LOCATION:Les Vendanges de Gagny\, Parc Courbet\, Gagny\, 93220\, France
ATTACH;FMTTYPE=image/jpeg:https://association-hibiscus.fr/wp-content/uploads/2022/07/WhatsApp-Image-2022-10-08-at-19.48.50.jpeg
END:VEVENT
BEGIN:VEVENT
DTSTART;TZID=Europe/Paris:20221009T080000
DTEND;TZID=Europe/Paris:20221009T120000
DTSTAMP:20260424T012102
CREATED:20220912T213516Z
LAST-MODIFIED:20220912T223018Z
UID:25875-1665302400-1665316800@association-hibiscus.fr
SUMMARY:Les Foulées Livryennes
DESCRIPTION:
URL:https://association-hibiscus.fr/evenement/les-foulees-livryennes/
LOCATION:Allée du Parc de la Mairie\, 93110 Livry-Gargan\, Allée du Parc de la Mairie\, Livry-Gargan\, Seine-Saint-Denis\, 93190\, France
ATTACH;FMTTYPE=image/jpeg:https://association-hibiscus.fr/wp-content/uploads/2022/09/IMG_9974.jpg
END:VEVENT
END:VCALENDAR