BEGIN:VCALENDAR
VERSION:2.0
PRODID:-//Association Hibiscus de Gagny 93 - ECPv6.0.10//NONSGML v1.0//EN
CALSCALE:GREGORIAN
METHOD:PUBLISH
X-WR-CALNAME:Association Hibiscus de Gagny 93
X-ORIGINAL-URL:https://association-hibiscus.fr
X-WR-CALDESC:évènements pour Association Hibiscus de Gagny 93
REFRESH-INTERVAL;VALUE=DURATION:PT1H
X-Robots-Tag:noindex
X-PUBLISHED-TTL:PT1H
BEGIN:VTIMEZONE
TZID:Europe/Paris
BEGIN:DAYLIGHT
TZOFFSETFROM:+0100
TZOFFSETTO:+0200
TZNAME:CEST
DTSTART:20220327T010000
END:DAYLIGHT
BEGIN:STANDARD
TZOFFSETFROM:+0200
TZOFFSETTO:+0100
TZNAME:CET
DTSTART:20221030T010000
END:STANDARD
END:VTIMEZONE
BEGIN:VEVENT
DTSTART;TZID=Europe/Paris:20220703T160000
DTEND;TZID=Europe/Paris:20220703T190000
DTSTAMP:20260424T060524
CREATED:20220520T215248Z
LAST-MODIFIED:20220706T205849Z
UID:25744-1656864000-1656874800@association-hibiscus.fr
SUMMARY:"Un Bel été" à Livry-Gargan
DESCRIPTION:
URL:https://association-hibiscus.fr/evenement/hibiscus-participe-a-levenement-un-bel-ete-a-livry-gargan/
LOCATION:Parc Lefevre Livry-Gargan\, 60 Avenue du Consul Général Nordling\, Livry-Gargan\, 93190\, France
ATTACH;FMTTYPE=image/jpeg:https://association-hibiscus.fr/wp-content/uploads/2022/05/WhatsApp-Image-2022-07-04-at-17.45.25.jpeg
END:VEVENT
END:VCALENDAR