BEGIN:VCALENDAR
VERSION:2.0
PRODID:-//Association Hibiscus de Gagny 93 - ECPv6.0.10//NONSGML v1.0//EN
CALSCALE:GREGORIAN
METHOD:PUBLISH
X-ORIGINAL-URL:https://association-hibiscus.fr
X-WR-CALDESC:évènements pour Association Hibiscus de Gagny 93
REFRESH-INTERVAL;VALUE=DURATION:PT1H
X-Robots-Tag:noindex
X-PUBLISHED-TTL:PT1H
BEGIN:VTIMEZONE
TZID:Europe/Paris
BEGIN:DAYLIGHT
TZOFFSETFROM:+0100
TZOFFSETTO:+0200
TZNAME:CEST
DTSTART:20260329T010000
END:DAYLIGHT
BEGIN:STANDARD
TZOFFSETFROM:+0200
TZOFFSETTO:+0100
TZNAME:CET
DTSTART:20261025T010000
END:STANDARD
END:VTIMEZONE
BEGIN:VEVENT
DTSTART;TZID=Europe/Paris:20260621T150000
DTEND;TZID=Europe/Paris:20260621T190000
DTSTAMP:20260421T191157
CREATED:20260419T220649Z
LAST-MODIFIED:20260419T223120Z
UID:27965-1782054000-1782068400@association-hibiscus.fr
SUMMARY:Carnaval de Lens 2026
DESCRIPTION:
URL:https://association-hibiscus.fr/evenement/carnaval-lens-21-juin-groupe-hibiscus/
LOCATION:Carnaval de Lens\, Place du Cantin\, Lens\, 62300
ATTACH;FMTTYPE=image/jpeg:https://association-hibiscus.fr/wp-content/uploads/2026/04/Lens-2026.jpg
END:VEVENT
END:VCALENDAR