BEGIN:VCALENDAR
VERSION:2.0
PRODID:-//Association Hibiscus de Gagny 93 - ECPv6.0.10//NONSGML v1.0//EN
CALSCALE:GREGORIAN
METHOD:PUBLISH
X-ORIGINAL-URL:https://association-hibiscus.fr
X-WR-CALDESC:évènements pour Association Hibiscus de Gagny 93
REFRESH-INTERVAL;VALUE=DURATION:PT1H
X-Robots-Tag:noindex
X-PUBLISHED-TTL:PT1H
BEGIN:VTIMEZONE
TZID:Europe/Paris
BEGIN:DAYLIGHT
TZOFFSETFROM:+0100
TZOFFSETTO:+0200
TZNAME:CEST
DTSTART:20260329T010000
END:DAYLIGHT
BEGIN:STANDARD
TZOFFSETFROM:+0200
TZOFFSETTO:+0100
TZNAME:CET
DTSTART:20261025T010000
END:STANDARD
END:VTIMEZONE
BEGIN:VEVENT
DTSTART;TZID=Europe/Paris:20260201T120000
DTEND;TZID=Europe/Paris:20260201T190000
DTSTAMP:20260421T191214
CREATED:20260119T232447Z
LAST-MODIFIED:20260419T223758Z
UID:27886-1769947200-1769972400@association-hibiscus.fr
SUMMARY:Festival de la culture roumaine
DESCRIPTION:
URL:https://association-hibiscus.fr/evenement/festival-de-la-culture-roumaine/
LOCATION:Salle des Fêtes de Gagny – Hotel de Ville\, Esplanade Michel TEULET\, Gagny\, 93220\, France
ATTACH;FMTTYPE=image/jpeg:https://association-hibiscus.fr/wp-content/uploads/2026/01/WhatsApp-Image-2026-01-20-at-22.35.25.jpeg
END:VEVENT
END:VCALENDAR