BEGIN:VCALENDAR
VERSION:2.0
PRODID:-//Association Hibiscus de Gagny 93 - ECPv6.0.10//NONSGML v1.0//EN
CALSCALE:GREGORIAN
METHOD:PUBLISH
X-ORIGINAL-URL:https://association-hibiscus.fr
X-WR-CALDESC:évènements pour Association Hibiscus de Gagny 93
REFRESH-INTERVAL;VALUE=DURATION:PT1H
X-Robots-Tag:noindex
X-PUBLISHED-TTL:PT1H
BEGIN:VTIMEZONE
TZID:Europe/Paris
BEGIN:DAYLIGHT
TZOFFSETFROM:+0100
TZOFFSETTO:+0200
TZNAME:CEST
DTSTART:20250330T010000
END:DAYLIGHT
BEGIN:STANDARD
TZOFFSETFROM:+0200
TZOFFSETTO:+0100
TZNAME:CET
DTSTART:20251026T010000
END:STANDARD
END:VTIMEZONE
BEGIN:VEVENT
DTSTART;TZID=Europe/Paris:20251211T080000
DTEND;TZID=Europe/Paris:20251221T230000
DTSTAMP:20260421T221606
CREATED:20250907T215223Z
LAST-MODIFIED:20251114T182703Z
UID:27841-1765440000-1766358000@association-hibiscus.fr
SUMMARY:NOËL KAKADO 2025 À VIEUX-HABITANTS (GUADELOUPE)
DESCRIPTION:  \n  \n \n  \nhttps://www.helloasso.com/associations/association-hibiscus/collectes/sejour-d-echanges-culturels-noel-kakado-vieux-habitants-guadeloupe \n { const dataHeight = e.data.height; const haWidgetElement = document.getElementById(‘haWidget’); haWidgetElement.height = dataHeight + ‘px’; } ) » >
URL:https://association-hibiscus.fr/evenement/noel-kakado-2025-a-vieux-habitants-guadeloupe/
LOCATION:Vieux-Habitants\, Vieux-Habitants\, 97119\, Guadeloupe
ATTACH;FMTTYPE=image/jpeg:https://association-hibiscus.fr/wp-content/uploads/2025/09/Noel-kakado.jpg
END:VEVENT
END:VCALENDAR