BEGIN:VCALENDAR
VERSION:2.0
PRODID:-//Association Hibiscus de Gagny 93 - ECPv6.0.10//NONSGML v1.0//EN
CALSCALE:GREGORIAN
METHOD:PUBLISH
X-WR-CALNAME:Association Hibiscus de Gagny 93
X-ORIGINAL-URL:https://association-hibiscus.fr
X-WR-CALDESC:évènements pour Association Hibiscus de Gagny 93
REFRESH-INTERVAL;VALUE=DURATION:PT1H
X-Robots-Tag:noindex
X-PUBLISHED-TTL:PT1H
BEGIN:VTIMEZONE
TZID:Europe/Paris
BEGIN:DAYLIGHT
TZOFFSETFROM:+0100
TZOFFSETTO:+0200
TZNAME:CEST
DTSTART:20250330T010000
END:DAYLIGHT
BEGIN:STANDARD
TZOFFSETFROM:+0200
TZOFFSETTO:+0100
TZNAME:CET
DTSTART:20251026T010000
END:STANDARD
END:VTIMEZONE
BEGIN:VEVENT
DTSTART;TZID=Europe/Paris:20251018T100000
DTEND;TZID=Europe/Paris:20251018T163000
DTSTAMP:20260422T005314
CREATED:20251001T170021Z
LAST-MODIFIED:20251001T170021Z
UID:27858-1760781600-1760805000@association-hibiscus.fr
SUMMARY:Auchan Chaucounin-Neufmontiers féte ses 10 ans
DESCRIPTION:
URL:https://association-hibiscus.fr/evenement/auchan-chaucounin-neufmontiers-fete-ses-10-ans/
LOCATION:Auchan Meaux\, 3 avenue Roland Moreno\, Chauconin-Neufmontiers\, Seine et Marne\, 77124\, France
ATTACH;FMTTYPE=image/jpeg:https://association-hibiscus.fr/wp-content/uploads/2025/10/Auchan-10-ans.jpg
END:VEVENT
END:VCALENDAR