BEGIN:VCALENDAR
VERSION:2.0
PRODID:-//Association Hibiscus de Gagny 93 - ECPv6.0.10//NONSGML v1.0//EN
CALSCALE:GREGORIAN
METHOD:PUBLISH
X-ORIGINAL-URL:https://association-hibiscus.fr
X-WR-CALDESC:évènements pour Association Hibiscus de Gagny 93
REFRESH-INTERVAL;VALUE=DURATION:PT1H
X-Robots-Tag:noindex
X-PUBLISHED-TTL:PT1H
BEGIN:VTIMEZONE
TZID:Europe/Paris
BEGIN:DAYLIGHT
TZOFFSETFROM:+0100
TZOFFSETTO:+0200
TZNAME:CEST
DTSTART:20250330T010000
END:DAYLIGHT
BEGIN:STANDARD
TZOFFSETFROM:+0200
TZOFFSETTO:+0100
TZNAME:CET
DTSTART:20251026T010000
END:STANDARD
END:VTIMEZONE
BEGIN:VEVENT
DTSTART;TZID=Europe/Paris:20251004T100000
DTEND;TZID=Europe/Paris:20251004T133000
DTSTAMP:20260422T005405
CREATED:20250907T205615Z
LAST-MODIFIED:20250907T211338Z
UID:27830-1759572000-1759584600@association-hibiscus.fr
SUMMARY:Octobre rose à Gagny
DESCRIPTION:
URL:https://association-hibiscus.fr/evenement/octobre-rose-a-gagny/
LOCATION:Mairie de Gagny\, 1 Esplanade Michel TEULET\, GAGNY\, 93220\, France
ATTACH;FMTTYPE=image/jpeg:https://association-hibiscus.fr/wp-content/uploads/2025/09/Bandeaux-web-Octobre-Rose-20252-1536x737-1.jpg
END:VEVENT
END:VCALENDAR