BEGIN:VCALENDAR
VERSION:2.0
PRODID:-//Association Hibiscus de Gagny 93 - ECPv6.0.10//NONSGML v1.0//EN
CALSCALE:GREGORIAN
METHOD:PUBLISH
X-ORIGINAL-URL:https://association-hibiscus.fr
X-WR-CALDESC:évènements pour Association Hibiscus de Gagny 93
REFRESH-INTERVAL;VALUE=DURATION:PT1H
X-Robots-Tag:noindex
X-PUBLISHED-TTL:PT1H
BEGIN:VTIMEZONE
TZID:Europe/Paris
BEGIN:DAYLIGHT
TZOFFSETFROM:+0100
TZOFFSETTO:+0200
TZNAME:CEST
DTSTART:20250330T010000
END:DAYLIGHT
BEGIN:STANDARD
TZOFFSETFROM:+0200
TZOFFSETTO:+0100
TZNAME:CET
DTSTART:20251026T010000
END:STANDARD
END:VTIMEZONE
BEGIN:VEVENT
DTSTART;TZID=Europe/Paris:20250628T140000
DTEND;TZID=Europe/Paris:20250629T180000
DTSTAMP:20260422T064341
CREATED:20250417T231322Z
LAST-MODIFIED:20250417T231322Z
UID:27802-1751119200-1751220000@association-hibiscus.fr
SUMMARY:Festival des Régions à Roissy en France
DESCRIPTION:
URL:https://association-hibiscus.fr/evenement/festival-des-regions-a-roissy-en-france/
LOCATION:Parc de l’ Orangerie\, Roissy-en-France\, 95700\, France
ATTACH;FMTTYPE=image/jpeg:https://association-hibiscus.fr/wp-content/uploads/2025/04/roissy_voyage_en_france.jpg
END:VEVENT
END:VCALENDAR