BEGIN:VCALENDAR
VERSION:2.0
PRODID:-//Association Hibiscus de Gagny 93 - ECPv6.0.10//NONSGML v1.0//EN
CALSCALE:GREGORIAN
METHOD:PUBLISH
X-ORIGINAL-URL:https://association-hibiscus.fr
X-WR-CALDESC:évènements pour Association Hibiscus de Gagny 93
REFRESH-INTERVAL;VALUE=DURATION:PT1H
X-Robots-Tag:noindex
X-PUBLISHED-TTL:PT1H
BEGIN:VTIMEZONE
TZID:Europe/Paris
BEGIN:DAYLIGHT
TZOFFSETFROM:+0100
TZOFFSETTO:+0200
TZNAME:CEST
DTSTART:20250330T010000
END:DAYLIGHT
BEGIN:STANDARD
TZOFFSETFROM:+0200
TZOFFSETTO:+0100
TZNAME:CET
DTSTART:20251026T010000
END:STANDARD
END:VTIMEZONE
BEGIN:VEVENT
DTSTART;VALUE=DATE:20250301
DTEND;VALUE=DATE:20250303
DTSTAMP:20260422T103930
CREATED:20241108T100041Z
LAST-MODIFIED:20241123T132727Z
UID:26353-1740787200-1740959999@association-hibiscus.fr
SUMMARY:Carnaval de Chalon-sur-Soane 2025
DESCRIPTION:https://www.instagram.com/carnaval_de_chalon/reel/DB9lqF9N52f/
URL:https://association-hibiscus.fr/evenement/carnaval-de-chalon-sur-soane-2025/
LOCATION:Chalon-sur-SOANE\, Centre ville\, Chalon-sur-Soane\, 71100
ATTACH;FMTTYPE=image/jpeg:https://association-hibiscus.fr/wp-content/uploads/2024/11/Carnaval-Chalon.jpg
END:VEVENT
END:VCALENDAR