BEGIN:VCALENDAR
VERSION:2.0
PRODID:-//Association Hibiscus de Gagny 93 - ECPv6.0.10//NONSGML v1.0//EN
CALSCALE:GREGORIAN
METHOD:PUBLISH
X-ORIGINAL-URL:https://association-hibiscus.fr
X-WR-CALDESC:évènements pour Association Hibiscus de Gagny 93
REFRESH-INTERVAL;VALUE=DURATION:PT1H
X-Robots-Tag:noindex
X-PUBLISHED-TTL:PT1H
BEGIN:VTIMEZONE
TZID:Europe/Paris
BEGIN:DAYLIGHT
TZOFFSETFROM:+0100
TZOFFSETTO:+0200
TZNAME:CEST
DTSTART:20240331T010000
END:DAYLIGHT
BEGIN:STANDARD
TZOFFSETFROM:+0200
TZOFFSETTO:+0100
TZNAME:CET
DTSTART:20241027T010000
END:STANDARD
END:VTIMEZONE
BEGIN:VEVENT
DTSTART;TZID=Europe/Paris:20241005T103000
DTEND;TZID=Europe/Paris:20241005T123000
DTSTAMP:20260422T173249
CREATED:20240913T232216Z
LAST-MODIFIED:20240913T232216Z
UID:26317-1728124200-1728131400@association-hibiscus.fr
SUMMARY:Octobre Rose
DESCRIPTION:
URL:https://association-hibiscus.fr/evenement/octobre-rose/
LOCATION:Mairie de Gagny\, 1 Esplanade Michel TEULET\, GAGNY\, 93220\, France
ATTACH;FMTTYPE=image/jpeg:https://association-hibiscus.fr/wp-content/uploads/2024/09/Octobre_rose_.jpg
END:VEVENT
END:VCALENDAR