BEGIN:VCALENDAR
VERSION:2.0
PRODID:-//Association Hibiscus de Gagny 93 - ECPv6.0.10//NONSGML v1.0//EN
CALSCALE:GREGORIAN
METHOD:PUBLISH
X-WR-CALNAME:Association Hibiscus de Gagny 93
X-ORIGINAL-URL:https://association-hibiscus.fr
X-WR-CALDESC:évènements pour Association Hibiscus de Gagny 93
REFRESH-INTERVAL;VALUE=DURATION:PT1H
X-Robots-Tag:noindex
X-PUBLISHED-TTL:PT1H
BEGIN:VTIMEZONE
TZID:Europe/Paris
BEGIN:DAYLIGHT
TZOFFSETFROM:+0100
TZOFFSETTO:+0200
TZNAME:CEST
DTSTART:20240331T010000
END:DAYLIGHT
BEGIN:STANDARD
TZOFFSETFROM:+0200
TZOFFSETTO:+0100
TZNAME:CET
DTSTART:20241027T010000
END:STANDARD
END:VTIMEZONE
BEGIN:VEVENT
DTSTART;TZID=Europe/Paris:20240629T130000
DTEND;TZID=Europe/Paris:20240629T163000
DTSTAMP:20260422T222452
CREATED:20240428T215049Z
LAST-MODIFIED:20240428T215049Z
UID:26270-1719666000-1719678600@association-hibiscus.fr
SUMMARY:Défilé DMC Action Sida (Gay Pride)
DESCRIPTION:
URL:https://association-hibiscus.fr/evenement/defile-dmc-action-sida-gay-pride/
LOCATION:Paris\, Paris\, 75001
ATTACH;FMTTYPE=image/jpeg:https://association-hibiscus.fr/wp-content/uploads/2024/04/342970574_542627584680418_958134482031756153_n.jpg
END:VEVENT
END:VCALENDAR