BEGIN:VCALENDAR
VERSION:2.0
PRODID:-//Association Hibiscus de Gagny 93 - ECPv6.0.10//NONSGML v1.0//EN
CALSCALE:GREGORIAN
METHOD:PUBLISH
X-WR-CALNAME:Association Hibiscus de Gagny 93
X-ORIGINAL-URL:https://association-hibiscus.fr
X-WR-CALDESC:évènements pour Association Hibiscus de Gagny 93
REFRESH-INTERVAL;VALUE=DURATION:PT1H
X-Robots-Tag:noindex
X-PUBLISHED-TTL:PT1H
BEGIN:VTIMEZONE
TZID:Europe/Paris
BEGIN:DAYLIGHT
TZOFFSETFROM:+0100
TZOFFSETTO:+0200
TZNAME:CEST
DTSTART:20240331T010000
END:DAYLIGHT
BEGIN:STANDARD
TZOFFSETFROM:+0200
TZOFFSETTO:+0100
TZNAME:CET
DTSTART:20241027T010000
END:STANDARD
END:VTIMEZONE
BEGIN:VEVENT
DTSTART;VALUE=DATE:20240623
DTEND;VALUE=DATE:20240624
DTSTAMP:20260422T222455
CREATED:20240428T205634Z
LAST-MODIFIED:20240428T215232Z
UID:26264-1719100800-1719187199@association-hibiscus.fr
SUMMARY:Festival Jean De La Fontaine
DESCRIPTION:
URL:https://association-hibiscus.fr/evenement/festival-jean-de-la-fontaine/
LOCATION:Château-Thierry\, 16 place de l'hôtel de ville\, Château-Thierry\, 02400\, France
ATTACH;FMTTYPE=image/jpeg:https://association-hibiscus.fr/wp-content/uploads/2024/04/csm_345632345_259403836482848_6085786065261542026_n_43e7941a6c.jpeg
END:VEVENT
END:VCALENDAR