BEGIN:VCALENDAR
VERSION:2.0
PRODID:-//Association Hibiscus de Gagny 93 - ECPv6.0.10//NONSGML v1.0//EN
CALSCALE:GREGORIAN
METHOD:PUBLISH
X-WR-CALNAME:Association Hibiscus de Gagny 93
X-ORIGINAL-URL:https://association-hibiscus.fr
X-WR-CALDESC:évènements pour Association Hibiscus de Gagny 93
REFRESH-INTERVAL;VALUE=DURATION:PT1H
X-Robots-Tag:noindex
X-PUBLISHED-TTL:PT1H
BEGIN:VTIMEZONE
TZID:Europe/Paris
BEGIN:DAYLIGHT
TZOFFSETFROM:+0100
TZOFFSETTO:+0200
TZNAME:CEST
DTSTART:20240331T010000
END:DAYLIGHT
BEGIN:STANDARD
TZOFFSETFROM:+0200
TZOFFSETTO:+0100
TZNAME:CET
DTSTART:20241027T010000
END:STANDARD
END:VTIMEZONE
BEGIN:VEVENT
DTSTART;TZID=Europe/Paris:20240607T190000
DTEND;TZID=Europe/Paris:20240607T200000
DTSTAMP:20260422T222457
CREATED:20240428T203141Z
LAST-MODIFIED:20240428T215338Z
UID:26261-1717786800-1717790400@association-hibiscus.fr
SUMMARY:Soirée Food Truck
DESCRIPTION:  \n  \n  \n 
URL:https://association-hibiscus.fr/evenement/soiree-food-truck/
LOCATION:Mairie de Livry-Gargan\, All. du Parc de la Mairie\, Livry-Gargan\, 93190\, France
ATTACH;FMTTYPE=image/jpeg:https://association-hibiscus.fr/wp-content/uploads/2024/04/csm_soirees-food-trucks-2024_17835eb370.jpg
END:VEVENT
END:VCALENDAR