BEGIN:VCALENDAR
VERSION:2.0
PRODID:-//Association Hibiscus de Gagny 93 - ECPv6.0.10//NONSGML v1.0//EN
CALSCALE:GREGORIAN
METHOD:PUBLISH
X-ORIGINAL-URL:https://association-hibiscus.fr
X-WR-CALDESC:évènements pour Association Hibiscus de Gagny 93
REFRESH-INTERVAL;VALUE=DURATION:PT1H
X-Robots-Tag:noindex
X-PUBLISHED-TTL:PT1H
BEGIN:VTIMEZONE
TZID:Europe/Paris
BEGIN:DAYLIGHT
TZOFFSETFROM:+0100
TZOFFSETTO:+0200
TZNAME:CEST
DTSTART:20240331T010000
END:DAYLIGHT
BEGIN:STANDARD
TZOFFSETFROM:+0200
TZOFFSETTO:+0100
TZNAME:CET
DTSTART:20241027T010000
END:STANDARD
END:VTIMEZONE
BEGIN:VEVENT
DTSTART;TZID=Europe/Paris:20240302T190000
DTEND;TZID=Europe/Paris:20240303T010000
DTSTAMP:20260423T023005
CREATED:20240214T200425Z
LAST-MODIFIED:20240218T102052Z
UID:26215-1709406000-1709427600@association-hibiscus.fr
SUMMARY:Diner Spectacle de l'association Hibiscus
DESCRIPTION:https://my.weezevent.com/soiree-dansante-carnaval-2024
URL:https://association-hibiscus.fr/evenement/diner-spectacle-de-lassociation-hibiscus/
LOCATION:Espace Jules VERNES\, Allée du parc de la Mairie\, Livry Gargan\, 93190\, France
ATTACH;FMTTYPE=image/jpeg:https://association-hibiscus.fr/wp-content/uploads/2024/02/Flyer-soiree-2-mars-2024.jpg
END:VEVENT
END:VCALENDAR