BEGIN:VCALENDAR
VERSION:2.0
PRODID:-//Association Hibiscus de Gagny 93 - ECPv6.0.10//NONSGML v1.0//EN
CALSCALE:GREGORIAN
METHOD:PUBLISH
X-ORIGINAL-URL:https://association-hibiscus.fr
X-WR-CALDESC:évènements pour Association Hibiscus de Gagny 93
REFRESH-INTERVAL;VALUE=DURATION:PT1H
X-Robots-Tag:noindex
X-PUBLISHED-TTL:PT1H
BEGIN:VTIMEZONE
TZID:Europe/Paris
BEGIN:DAYLIGHT
TZOFFSETFROM:+0100
TZOFFSETTO:+0200
TZNAME:CEST
DTSTART:20230326T010000
END:DAYLIGHT
BEGIN:STANDARD
TZOFFSETFROM:+0200
TZOFFSETTO:+0100
TZNAME:CET
DTSTART:20231029T010000
END:STANDARD
END:VTIMEZONE
BEGIN:VEVENT
DTSTART;TZID=Europe/Paris:20231007T110000
DTEND;TZID=Europe/Paris:20231008T180000
DTSTAMP:20260423T093413
CREATED:20230918T223615Z
LAST-MODIFIED:20230918T223615Z
UID:26170-1696676400-1696788000@association-hibiscus.fr
SUMMARY:FÊTE DES VENDANGES
DESCRIPTION:
URL:https://association-hibiscus.fr/evenement/fete-des-vendanges/
LOCATION:Parc Courbet 93220 GAGNY\, Parc Courbet\, GAGNY\, 93220\, France
ATTACH;FMTTYPE=image/jpeg:https://association-hibiscus.fr/wp-content/uploads/2023/09/grappe.jpeg
ORGANIZER;CN="Mairie%20de%20Gagny":MAILTO:service.fetes.ceremonies@mairie-gagny.fr
END:VEVENT
BEGIN:VEVENT
DTSTART;TZID=Europe/Paris:20231008T090000
DTEND;TZID=Europe/Paris:20231008T170000
DTSTAMP:20260423T093413
CREATED:20230918T224812Z
LAST-MODIFIED:20230918T224837Z
UID:26176-1696755600-1696784400@association-hibiscus.fr
SUMMARY:Foulées Livryennes 2023
DESCRIPTION:
URL:https://association-hibiscus.fr/evenement/foulees-livryennes-2023/
LOCATION:Allée du Parc de la Mairie\, 93110 Livry-Gargan\, Allée du Parc de la Mairie\, Livry-Gargan\, Seine-Saint-Denis\, 93190\, France
ATTACH;FMTTYPE=image/jpeg:https://association-hibiscus.fr/wp-content/uploads/2023/09/Foulees-Livryennes-2023.jpeg
END:VEVENT
END:VCALENDAR