BEGIN:VCALENDAR
VERSION:2.0
PRODID:-//Association Hibiscus de Gagny 93 - ECPv6.0.10//NONSGML v1.0//EN
CALSCALE:GREGORIAN
METHOD:PUBLISH
X-ORIGINAL-URL:https://association-hibiscus.fr
X-WR-CALDESC:évènements pour Association Hibiscus de Gagny 93
REFRESH-INTERVAL;VALUE=DURATION:PT1H
X-Robots-Tag:noindex
X-PUBLISHED-TTL:PT1H
BEGIN:VTIMEZONE
TZID:Europe/Paris
BEGIN:DAYLIGHT
TZOFFSETFROM:+0100
TZOFFSETTO:+0200
TZNAME:CEST
DTSTART:20230326T010000
END:DAYLIGHT
BEGIN:STANDARD
TZOFFSETFROM:+0200
TZOFFSETTO:+0100
TZNAME:CET
DTSTART:20231029T010000
END:STANDARD
END:VTIMEZONE
BEGIN:VEVENT
DTSTART;TZID=Europe/Paris:20230528T090000
DTEND;TZID=Europe/Paris:20230528T210000
DTSTAMP:20260423T165833
CREATED:20230428T224918Z
LAST-MODIFIED:20230428T225108Z
UID:26151-1685264400-1685307600@association-hibiscus.fr
SUMMARY:La fête du crabe
DESCRIPTION:
URL:https://association-hibiscus.fr/evenement/la-fete-du-crabe/
LOCATION:STADE DES BORDS DE MARNE\, 43 RUE LÉON BERNARD\, Noisy-Le-Grand\, 93160
ATTACH;FMTTYPE=image/jpeg:https://association-hibiscus.fr/wp-content/uploads/2023/04/WhatsApp-Image-2023-04-17-at-11.25.02.jpeg
END:VEVENT
END:VCALENDAR