BEGIN:VCALENDAR
VERSION:2.0
PRODID:-//Association Hibiscus de Gagny 93 - ECPv6.0.10//NONSGML v1.0//EN
CALSCALE:GREGORIAN
METHOD:PUBLISH
X-ORIGINAL-URL:https://association-hibiscus.fr
X-WR-CALDESC:évènements pour Association Hibiscus de Gagny 93
REFRESH-INTERVAL;VALUE=DURATION:PT1H
X-Robots-Tag:noindex
X-PUBLISHED-TTL:PT1H
BEGIN:VTIMEZONE
TZID:Europe/Paris
BEGIN:DAYLIGHT
TZOFFSETFROM:+0100
TZOFFSETTO:+0200
TZNAME:CEST
DTSTART:20230326T010000
END:DAYLIGHT
BEGIN:STANDARD
TZOFFSETFROM:+0200
TZOFFSETTO:+0100
TZNAME:CET
DTSTART:20231029T010000
END:STANDARD
END:VTIMEZONE
BEGIN:VEVENT
DTSTART;TZID=Europe/Paris:20230429T140000
DTEND;TZID=Europe/Paris:20230429T180000
DTSTAMP:20260423T181436
CREATED:20230428T215714Z
LAST-MODIFIED:20230428T232349Z
UID:26135-1682776800-1682791200@association-hibiscus.fr
SUMMARY:Journée international de la danse
DESCRIPTION:
URL:https://association-hibiscus.fr/evenement/journee-international-de-la-danse/
LOCATION:Centre Socio Culturel Jacques Prévert\, 63 rue du 18 Juin\, Gagny\, 93220
ATTACH;FMTTYPE=image/jpeg:https://association-hibiscus.fr/wp-content/uploads/2023/04/WhatsApp-Image-2023-04-28-at-17.00.03.jpeg
END:VEVENT
END:VCALENDAR