BEGIN:VCALENDAR
VERSION:2.0
PRODID:-//Association Hibiscus de Gagny 93 - ECPv6.0.10//NONSGML v1.0//EN
CALSCALE:GREGORIAN
METHOD:PUBLISH
X-WR-CALNAME:Association Hibiscus de Gagny 93
X-ORIGINAL-URL:https://association-hibiscus.fr
X-WR-CALDESC:évènements pour Association Hibiscus de Gagny 93
REFRESH-INTERVAL;VALUE=DURATION:PT1H
X-Robots-Tag:noindex
X-PUBLISHED-TTL:PT1H
BEGIN:VTIMEZONE
TZID:Europe/Paris
BEGIN:DAYLIGHT
TZOFFSETFROM:+0100
TZOFFSETTO:+0200
TZNAME:CEST
DTSTART:20220327T010000
END:DAYLIGHT
BEGIN:STANDARD
TZOFFSETFROM:+0200
TZOFFSETTO:+0100
TZNAME:CET
DTSTART:20221030T010000
END:STANDARD
END:VTIMEZONE
BEGIN:VEVENT
DTSTART;TZID=Europe/Paris:20220619T100000
DTEND;TZID=Europe/Paris:20220619T170000
DTSTAMP:20260425T025049
CREATED:20220706T201747Z
LAST-MODIFIED:20220706T204846Z
UID:25753-1655632800-1655658000@association-hibiscus.fr
SUMMARY:19 JUIN 2022   Hibiscus et Canne à Sucre à l'arboretum de Montfermeil
DESCRIPTION:
URL:https://association-hibiscus.fr/evenement/19-juin-2022-hibiscus-et-canne-a-sucre-a-larboretum-de-montfermeil/
LOCATION:Parc Arboretum de Montfermeil\, Château des cèdres - Parc Arboretum\, Montfermeil\, 93370\, France
ATTACH;FMTTYPE=image/jpeg:https://association-hibiscus.fr/wp-content/uploads/2022/07/WhatsApp-Image-2022-06-21-at-15.45.21-copie.jpeg
END:VEVENT
END:VCALENDAR